BEGIN:VCALENDAR
VERSION:2.0
BEGIN:VEVENT
CLASS:PUBLIC
CATEGORIES:MEETING
DTSTART;TZID=Australia/Brisbane:20260509T190000
DTEND;TZID=Australia/Brisbane:20260509T190000
SUMMARY:Awful Noise at CROWBAR BRISBANE
DESCRIPTION:Price: 61.20\nClick here to buy tickets: https://tickets.oztix.com.au/outlet/event/9a0ac93c-4642-436d-9802-1fc0f694ded6?utm_source=Oztix&amp;utm_medium=Website&amp;utm_content=search&amp;utm_term=Rotten%20Sound&amp;_gl=1*15yqqso*_ga*MTI0OTI1NDQyOC4xNzczNDg3MjE3*_ga_Z6Q34PSGS3*czE3NzM0ODcyMTYkbzEkZzEkdDE3NzM0ODc\nAge Limit: 17+\n\nDetails: After more than a decade, Finland&#39;s grind kings ROTTEN SOUND are returning to punish Australia in 2026 with fast, violent and unforgiving grind delivered at full force.\n\nFor over three decades Rotten Sound have stood at the absolute forefront of grindcore, delivering a hostile and uncompromising sonic assault. The band has built their reputation on sheer intensity and pure contempt.\n\nNo trends, just grind.\n\nRotten Sound will tear through Australia delivering a set stacked with material spanning their extensive catalog – including their 2024 EP Mass Extinction.\n\nExpect chaos. If you know, you know. If you don’t, you’re about to find out.
LOCATION:CROWBAR BRISBANE - 243 Brunswick St, Fortitude Valley, QLD, 4006, AU
END:VEVENT

END:VCALENDAR
